BEGIN:VCALENDAR
VERSION:2.0
PRODID:-//Broward County Building Officials - ECPv6.3.3.1//NONSGML v1.0//EN
CALSCALE:GREGORIAN
METHOD:PUBLISH
X-WR-CALNAME:Broward County Building Officials
X-ORIGINAL-URL:https://www.boiea.com
X-WR-CALDESC:Events for Broward County Building Officials
REFRESH-INTERVAL;VALUE=DURATION:PT1H
X-Robots-Tag:noindex
X-PUBLISHED-TTL:PT1H
BEGIN:VTIMEZONE
TZID:UTC
BEGIN:STANDARD
TZOFFSETFROM:+0000
TZOFFSETTO:+0000
TZNAME:UTC
DTSTART:20180101T000000
END:STANDARD
END:VTIMEZONE
BEGIN:VEVENT
DTSTART;VALUE=DATE:20180307
DTEND;VALUE=DATE:20180309
DTSTAMP:20260420T015438
CREATED:20180103T200207Z
LAST-MODIFIED:20180103T200207Z
UID:2262-1520380800-1520553599@www.boiea.com
SUMMARY:South Florida Educational Conference
DESCRIPTION:
URL:https://www.boiea.com/event/south-florida-educational-conference/
LOCATION:FL
END:VEVENT
BEGIN:VEVENT
DTSTART;TZID=UTC:20180301T120000
DTEND;TZID=UTC:20180301T130000
DTSTAMP:20260420T015438
CREATED:20180103T192402Z
LAST-MODIFIED:20180103T192402Z
UID:2190-1519905600-1519909200@www.boiea.com
SUMMARY:BCBO Directors Meeting
DESCRIPTION:
URL:https://www.boiea.com/event/bcbo-directors-meeting-3/
LOCATION:Moose Lodge\, 6191 Rock Island Rd\, Tamarac\, FL\, 33319\, United States
END:VEVENT
BEGIN:VEVENT
DTSTART;VALUE=DATE:20180221
DTEND;VALUE=DATE:20180222
DTSTAMP:20260420T015438
CREATED:20180103T195841Z
LAST-MODIFIED:20180103T195917Z
UID:2257-1519171200-1519257599@www.boiea.com
SUMMARY:Significant Changes Cont. Education
DESCRIPTION:
URL:https://www.boiea.com/event/sibnificant-changes-cont-education/
LOCATION:FL
END:VEVENT
BEGIN:VEVENT
DTSTART;TZID=UTC:20180215T113000
DTEND;TZID=UTC:20180215T130000
DTSTAMP:20260420T015438
CREATED:20180103T194819Z
LAST-MODIFIED:20180103T194819Z
UID:2236-1518694200-1518699600@www.boiea.com
SUMMARY:Membership Lunch Meeting
DESCRIPTION:
URL:https://www.boiea.com/event/membership-lunch-meeting-2/
LOCATION:Moose Lodge\, 6191 Rock Island Rd\, Tamarac\, FL\, 33319\, United States
END:VEVENT
BEGIN:VEVENT
DTSTART;TZID=UTC:20180212T110000
DTEND;TZID=UTC:20180212T120000
DTSTAMP:20260420T015438
CREATED:20180103T193701Z
LAST-MODIFIED:20180103T193701Z
UID:2212-1518433200-1518436800@www.boiea.com
SUMMARY:Building Officials & Chiefs Meeting
DESCRIPTION:
URL:https://www.boiea.com/event/building-officials-chiefs-meeting-2/
LOCATION:Moose Lodge\, 6191 Rock Island Rd\, Tamarac\, FL\, 33319\, United States
END:VEVENT
BEGIN:VEVENT
DTSTART;VALUE=DATE:20180207
DTEND;VALUE=DATE:20180209
DTSTAMP:20260420T015438
CREATED:20180103T195705Z
LAST-MODIFIED:20180103T201639Z
UID:2254-1517961600-1518134399@www.boiea.com
SUMMARY:Broward Days
DESCRIPTION:
URL:https://www.boiea.com/event/broward-days/
LOCATION:Tallahassee
END:VEVENT
BEGIN:VEVENT
DTSTART;TZID=UTC:20180201T080000
DTEND;TZID=UTC:20180201T170000
DTSTAMP:20260420T015438
CREATED:20180103T192311Z
LAST-MODIFIED:20180103T201833Z
UID:2188-1517472000-1517504400@www.boiea.com
SUMMARY:BCBO Directors Meeting
DESCRIPTION:
URL:https://www.boiea.com/event/bcbo-directors-meeting-2/
LOCATION:Moose Lodge\, 6191 Rock Island Rd\, Tamarac\, FL\, 33319\, United States
END:VEVENT
BEGIN:VEVENT
DTSTART;TZID=UTC:20180118T113000
DTEND;TZID=UTC:20180118T130000
DTSTAMP:20260420T015438
CREATED:20180103T194732Z
LAST-MODIFIED:20180103T194732Z
UID:2234-1516275000-1516280400@www.boiea.com
SUMMARY:Membership Lunch Meeting
DESCRIPTION:
URL:https://www.boiea.com/event/membership-lunch-meeting/
LOCATION:Moose Lodge\, 6191 Rock Island Rd\, Tamarac\, FL\, 33319\, United States
END:VEVENT
BEGIN:VEVENT
DTSTART;TZID=UTC:20180108T110000
DTEND;TZID=UTC:20180108T120000
DTSTAMP:20260420T015438
CREATED:20180103T193615Z
LAST-MODIFIED:20180103T193615Z
UID:2210-1515409200-1515412800@www.boiea.com
SUMMARY:Building Officials & Chiefs Meeting
DESCRIPTION:
URL:https://www.boiea.com/event/building-officials-chiefs-meeting/
LOCATION:Moose Lodge\, 6191 Rock Island Rd\, Tamarac\, FL\, 33319\, United States
END:VEVENT
BEGIN:VEVENT
DTSTART;TZID=UTC:20180104T120000
DTEND;TZID=UTC:20180104T130000
DTSTAMP:20260420T015438
CREATED:20180103T192040Z
LAST-MODIFIED:20180103T192237Z
UID:2186-1515067200-1515070800@www.boiea.com
SUMMARY:BCBO Directors Meeting
DESCRIPTION:
URL:https://www.boiea.com/event/bcbo-directors-meeting/
LOCATION:Moose Lodge\, 6191 Rock Island Rd\, Tamarac\, FL\, 33319\, United States
END:VEVENT
END:VCALENDAR